BEGIN:VCALENDAR
VERSION:2.0
PRODID:-//ODC Network - ECPv6.15.17//NONSGML v1.0//EN
CALSCALE:GREGORIAN
METHOD:PUBLISH
X-WR-CALNAME:ODC Network
X-ORIGINAL-URL:https://outdoordiscovery.org
X-WR-CALDESC:Events for ODC Network
REFRESH-INTERVAL;VALUE=DURATION:PT1H
X-Robots-Tag:noindex
X-PUBLISHED-TTL:PT1H
BEGIN:VTIMEZONE
TZID:America/New_York
BEGIN:DAYLIGHT
TZOFFSETFROM:-0500
TZOFFSETTO:-0400
TZNAME:EDT
DTSTART:20250309T070000
END:DAYLIGHT
BEGIN:STANDARD
TZOFFSETFROM:-0400
TZOFFSETTO:-0500
TZNAME:EST
DTSTART:20251102T060000
END:STANDARD
BEGIN:DAYLIGHT
TZOFFSETFROM:-0500
TZOFFSETTO:-0400
TZNAME:EDT
DTSTART:20260308T070000
END:DAYLIGHT
BEGIN:STANDARD
TZOFFSETFROM:-0400
TZOFFSETTO:-0500
TZNAME:EST
DTSTART:20261101T060000
END:STANDARD
BEGIN:DAYLIGHT
TZOFFSETFROM:-0500
TZOFFSETTO:-0400
TZNAME:EDT
DTSTART:20270314T070000
END:DAYLIGHT
BEGIN:STANDARD
TZOFFSETFROM:-0400
TZOFFSETTO:-0500
TZNAME:EST
DTSTART:20271107T060000
END:STANDARD
END:VTIMEZONE
BEGIN:VEVENT
DTSTART;TZID=America/New_York:20260420T183000
DTEND;TZID=America/New_York:20260420T200000
DTSTAMP:20260420T020325
CREATED:20260211T220313Z
LAST-MODIFIED:20260419T165326Z
UID:10000222-1776709800-1776715200@outdoordiscovery.org
SUMMARY:Environmental Book Club
DESCRIPTION:Join us for a collaborative discussion during our next environmental book club! We will be reading Braiding Sweetgrass by Robin Wall Kimmerer\nCopies of the book will be available for checkout at Herrick District Library one month prior to meeting\, while supplies last. Digital and audio versions are also available on Libby and Hoopla.\nThis program is a collaboration between DeGraaf Nature Center and Herrick District Library.\nFor ages 18 and up. \nNo registration required.\nFee: FREE – Sponsored by Herrick District Library\nLocation: DeGraaf Nature Center\, 600 Graafschap Rd\, Holland\, MI 49424
URL:https://outdoordiscovery.org/events/environmental-book-club/
LOCATION:DeGraaf Nature Center\, 600 Graafschap Rd\, Holland\, MI\, United States
CATEGORIES:Sustainability/Conservation Workshops
GEO:42.774778;-86.137281
X-APPLE-STRUCTURED-LOCATION;VALUE=URI;X-ADDRESS=DeGraaf Nature Center 600 Graafschap Rd Holland MI United States;X-APPLE-RADIUS=500;X-TITLE=600 Graafschap Rd:geo:-86.137281,42.774778
END:VEVENT
END:VCALENDAR