BEGIN:VCALENDAR
VERSION:2.0
PRODID:-//ODC Network - ECPv6.15.17//NONSGML v1.0//EN
CALSCALE:GREGORIAN
METHOD:PUBLISH
X-WR-CALNAME:ODC Network
X-ORIGINAL-URL:https://outdoordiscovery.org
X-WR-CALDESC:Events for ODC Network
REFRESH-INTERVAL;VALUE=DURATION:PT1H
X-Robots-Tag:noindex
X-PUBLISHED-TTL:PT1H
BEGIN:VTIMEZONE
TZID:America/New_York
BEGIN:DAYLIGHT
TZOFFSETFROM:-0500
TZOFFSETTO:-0400
TZNAME:EDT
DTSTART:20250309T070000
END:DAYLIGHT
BEGIN:STANDARD
TZOFFSETFROM:-0400
TZOFFSETTO:-0500
TZNAME:EST
DTSTART:20251102T060000
END:STANDARD
BEGIN:DAYLIGHT
TZOFFSETFROM:-0500
TZOFFSETTO:-0400
TZNAME:EDT
DTSTART:20260308T070000
END:DAYLIGHT
BEGIN:STANDARD
TZOFFSETFROM:-0400
TZOFFSETTO:-0500
TZNAME:EST
DTSTART:20261101T060000
END:STANDARD
BEGIN:DAYLIGHT
TZOFFSETFROM:-0500
TZOFFSETTO:-0400
TZNAME:EDT
DTSTART:20270314T070000
END:DAYLIGHT
BEGIN:STANDARD
TZOFFSETFROM:-0400
TZOFFSETTO:-0500
TZNAME:EST
DTSTART:20271107T060000
END:STANDARD
END:VTIMEZONE
BEGIN:VEVENT
DTSTART;TZID=America/New_York:20260422T160000
DTEND;TZID=America/New_York:20260422T210000
DTSTAMP:20260422T014515
CREATED:20260331T153316Z
LAST-MODIFIED:20260421T170828Z
UID:10000472-1776873600-1776891600@outdoordiscovery.org
SUMMARY:Give Back on Tap @ Nobel Twist Taphouse
DESCRIPTION:What a better way to celebrate Earth Day than joining Noble Twist in supporting ODC Network!  \nVisit Noble Twist on Wednesday April 22nd between 4:00-9:00 pm for great food\, even better company\, and the joy of giving a percent of the proceeds back to ODC.  \nLearn more about  the event.
URL:https://outdoordiscovery.org/events/give-back-on-tap-nobel-twist-taphouse/
LOCATION:Noble Twist Taphouse\, 248 Culver St\, Saugatuck\, MI\, United States
GEO:42.654856;-86.20363
X-APPLE-STRUCTURED-LOCATION;VALUE=URI;X-ADDRESS=Noble Twist Taphouse 248 Culver St Saugatuck MI United States;X-APPLE-RADIUS=500;X-TITLE=248 Culver St:geo:-86.20363,42.654856
END:VEVENT
END:VCALENDAR