BEGIN:VCALENDAR
VERSION:2.0
PRODID:-//ODC Network - ECPv6.15.17//NONSGML v1.0//EN
CALSCALE:GREGORIAN
METHOD:PUBLISH
X-ORIGINAL-URL:https://outdoordiscovery.org
X-WR-CALDESC:Events for ODC Network
REFRESH-INTERVAL;VALUE=DURATION:PT1H
X-Robots-Tag:noindex
X-PUBLISHED-TTL:PT1H
BEGIN:VTIMEZONE
TZID:America/New_York
BEGIN:DAYLIGHT
TZOFFSETFROM:-0500
TZOFFSETTO:-0400
TZNAME:EDT
DTSTART:20250309T070000
END:DAYLIGHT
BEGIN:STANDARD
TZOFFSETFROM:-0400
TZOFFSETTO:-0500
TZNAME:EST
DTSTART:20251102T060000
END:STANDARD
BEGIN:DAYLIGHT
TZOFFSETFROM:-0500
TZOFFSETTO:-0400
TZNAME:EDT
DTSTART:20260308T070000
END:DAYLIGHT
BEGIN:STANDARD
TZOFFSETFROM:-0400
TZOFFSETTO:-0500
TZNAME:EST
DTSTART:20261101T060000
END:STANDARD
BEGIN:DAYLIGHT
TZOFFSETFROM:-0500
TZOFFSETTO:-0400
TZNAME:EDT
DTSTART:20270314T070000
END:DAYLIGHT
BEGIN:STANDARD
TZOFFSETFROM:-0400
TZOFFSETTO:-0500
TZNAME:EST
DTSTART:20271107T060000
END:STANDARD
END:VTIMEZONE
BEGIN:VEVENT
DTSTART;TZID=America/New_York:20260505T090000
DTEND;TZID=America/New_York:20260505T103000
DTSTAMP:20260419T143412
CREATED:20260204T220346Z
LAST-MODIFIED:20260419T165327Z
UID:10000215-1777971600-1777977000@outdoordiscovery.org
SUMMARY:Birding at Bysterveld (Senior Only)
DESCRIPTION:Join us for a morning birding hike around a local birding hotspot! Walk with one of our naturalists who will guide you through the trails. Our naturalist will help you learn identification techniques and more while identifying birds on the walk. All experience levels are welcome. \nBinoculars will be provided. \nIt is suggested to download Merlin Bird ID and eBird\, but not required. \nFor ages 55+ \nRegistration is not required\, but appreciated. \nFee: FREE – program sponsored by Allegan County Parks and Recreation \nProgram Location: Bysterveld Park 4171 14th Street\, Wayland\, MI 49348
URL:https://outdoordiscovery.org/events/birding-at-bysterveld-senior-only/
LOCATION:Bysterveld Park\, 4171 14th St\, Wayland\, MI\, United States
CATEGORIES:Birding Programs
GEO:42.722738;-85.682484
X-APPLE-STRUCTURED-LOCATION;VALUE=URI;X-ADDRESS=Bysterveld Park 4171 14th St Wayland MI United States;X-APPLE-RADIUS=500;X-TITLE=4171 14th St:geo:-85.682484,42.722738
END:VEVENT
BEGIN:VEVENT
DTSTART;TZID=America/New_York:20260515T090000
DTEND;TZID=America/New_York:20260515T103000
DTSTAMP:20260419T143412
CREATED:20260214T220505Z
LAST-MODIFIED:20260419T165327Z
UID:10000231-1778835600-1778841000@outdoordiscovery.org
SUMMARY:Birding Hike (at Stu Visser)
DESCRIPTION:
URL:https://outdoordiscovery.org/events/birding-hike-at-stu-visser/
LOCATION:Stu Visser Trails\, 929 Ottawa Beach Rd\, Holland\, MI\, United States
CATEGORIES:Birding Programs
GEO:42.797596;-86.144922
X-APPLE-STRUCTURED-LOCATION;VALUE=URI;X-ADDRESS=Stu Visser Trails 929 Ottawa Beach Rd Holland MI United States;X-APPLE-RADIUS=500;X-TITLE=929 Ottawa Beach Rd:geo:-86.144922,42.797596
END:VEVENT
BEGIN:VEVENT
DTSTART;TZID=America/New_York:20260519T090000
DTEND;TZID=America/New_York:20260519T103000
DTSTAMP:20260419T143412
CREATED:20260218T223318Z
LAST-MODIFIED:20260419T165327Z
UID:10000237-1779181200-1779186600@outdoordiscovery.org
SUMMARY:Migratory Birds (at Wolters Woods)
DESCRIPTION:Explore the trails with a naturalist and learn to recognize some truly remarkable birds as spring migrants return. From warblers and vireos to flycatchers and shorebirds\, this program is perfect for birders of all levels\, from beginners to experts. \nBinoculars and field guides are available for use during the program.For ages 10 and up. \nGuardians stay with the class. \nRegistration is not required\, but appreciated. \nFee: FREE – sponsored by Laketown Township \nProgram Location: Wolters Woods\, 6281 147th Ave\, Holland\, MI 49423-8919
URL:https://outdoordiscovery.org/events/migratory-birds-at-wolters-woods/
LOCATION:Wolters Woods\, 6281 147th Ave\, Holland\, MI\, United States
CATEGORIES:Birding Programs
GEO:42.761496;-86.163279
X-APPLE-STRUCTURED-LOCATION;VALUE=URI;X-ADDRESS=Wolters Woods 6281 147th Ave Holland MI United States;X-APPLE-RADIUS=500;X-TITLE=6281 147th Ave:geo:-86.163279,42.761496
END:VEVENT
BEGIN:VEVENT
DTSTART;TZID=America/New_York:20260522T080000
DTEND;TZID=America/New_York:20260524T200000
DTSTAMP:20260419T143412
CREATED:20260221T223411Z
LAST-MODIFIED:20260419T165328Z
UID:10000242-1779436800-1779652800@outdoordiscovery.org
SUMMARY:Shores of Lake Erie Spring Birding Trip
DESCRIPTION:Join us on a three-day\, two-night camping trip focused on birding! Whether you’re a seasoned birdwatcher or just starting out\, this event is perfect for all skill levels. We will be traveling to the southern shores of Lake Erie\, which is known as one of the top birdwatching locations in the country\, and receives more than 300 species of birds preparing to migrate across the Great Lakes. Each day\, we will visit multiple hotspots with a variety of habitats to maximize our experience! \nFor more information\, please reference our flier. \nBinoculars are available for use during the event. We will also have spotting scopes available for group use. \nFee: $405 with a 4% credit card processing fee \nRegister Here!
URL:https://outdoordiscovery.org/events/shores-of-lake-erie-spring-birding-trip/
CATEGORIES:Birding Programs
END:VEVENT
END:VCALENDAR