BEGIN:VCALENDAR
VERSION:2.0
PRODID:-//ODC Network - ECPv6.15.17//NONSGML v1.0//EN
CALSCALE:GREGORIAN
METHOD:PUBLISH
X-ORIGINAL-URL:https://outdoordiscovery.org
X-WR-CALDESC:Events for ODC Network
REFRESH-INTERVAL;VALUE=DURATION:PT1H
X-Robots-Tag:noindex
X-PUBLISHED-TTL:PT1H
BEGIN:VTIMEZONE
TZID:America/New_York
BEGIN:DAYLIGHT
TZOFFSETFROM:-0500
TZOFFSETTO:-0400
TZNAME:EDT
DTSTART:20250309T070000
END:DAYLIGHT
BEGIN:STANDARD
TZOFFSETFROM:-0400
TZOFFSETTO:-0500
TZNAME:EST
DTSTART:20251102T060000
END:STANDARD
BEGIN:DAYLIGHT
TZOFFSETFROM:-0500
TZOFFSETTO:-0400
TZNAME:EDT
DTSTART:20260308T070000
END:DAYLIGHT
BEGIN:STANDARD
TZOFFSETFROM:-0400
TZOFFSETTO:-0500
TZNAME:EST
DTSTART:20261101T060000
END:STANDARD
BEGIN:DAYLIGHT
TZOFFSETFROM:-0500
TZOFFSETTO:-0400
TZNAME:EDT
DTSTART:20270314T070000
END:DAYLIGHT
BEGIN:STANDARD
TZOFFSETFROM:-0400
TZOFFSETTO:-0500
TZNAME:EST
DTSTART:20271107T060000
END:STANDARD
END:VTIMEZONE
BEGIN:VEVENT
DTSTART;TZID=America/New_York:20260321T100000
DTEND;TZID=America/New_York:20260321T120000
DTSTAMP:20260419T165445
CREATED:20260121T022730Z
LAST-MODIFIED:20260321T053313Z
UID:10000182-1774087200-1774094400@outdoordiscovery.org
SUMMARY:Birding for Beginners (at ODC)
DESCRIPTION:Join us in this introductory class perfect for those curious about birding. You’ll learn identification techniques\, basic terminology\, how to use a guidebook and binoculars\, and more before putting your knowledge into practice on a guided birding walk through our grounds. Gain scientific skills as you learn how to contribute your findings to citizen science\, helping to further research and promote the conservation of these charismatic animals. \nBinoculars will be provided. \nFor ages 10 and up. \nGuardians stay with the class. \nRegistration is not required\, but appreciated. \nFee: $6 per person\, 20% discount for members \nProgram Location: Outdoor Discovery Center\, 4214 56th St\, Holland\, MI 49423\, USA
URL:https://outdoordiscovery.org/events/birding-for-beginners-at-odc/
LOCATION:Outdoor Discovery Center\, 4214 56th St\, Holland\, MI\, United States
CATEGORIES:Birding Programs
GEO:42.726249;-86.095673
X-APPLE-STRUCTURED-LOCATION;VALUE=URI;X-ADDRESS=Outdoor Discovery Center 4214 56th St Holland MI United States;X-APPLE-RADIUS=500;X-TITLE=4214 56th St:geo:-86.095673,42.726249
END:VEVENT
END:VCALENDAR