BEGIN:VCALENDAR
VERSION:2.0
PRODID:-//ODC Network - ECPv6.15.17//NONSGML v1.0//EN
CALSCALE:GREGORIAN
METHOD:PUBLISH
X-ORIGINAL-URL:https://outdoordiscovery.org
X-WR-CALDESC:Events for ODC Network
REFRESH-INTERVAL;VALUE=DURATION:PT1H
X-Robots-Tag:noindex
X-PUBLISHED-TTL:PT1H
BEGIN:VTIMEZONE
TZID:America/New_York
BEGIN:DAYLIGHT
TZOFFSETFROM:-0500
TZOFFSETTO:-0400
TZNAME:EDT
DTSTART:20250309T070000
END:DAYLIGHT
BEGIN:STANDARD
TZOFFSETFROM:-0400
TZOFFSETTO:-0500
TZNAME:EST
DTSTART:20251102T060000
END:STANDARD
BEGIN:DAYLIGHT
TZOFFSETFROM:-0500
TZOFFSETTO:-0400
TZNAME:EDT
DTSTART:20260308T070000
END:DAYLIGHT
BEGIN:STANDARD
TZOFFSETFROM:-0400
TZOFFSETTO:-0500
TZNAME:EST
DTSTART:20261101T060000
END:STANDARD
BEGIN:DAYLIGHT
TZOFFSETFROM:-0500
TZOFFSETTO:-0400
TZNAME:EDT
DTSTART:20270314T070000
END:DAYLIGHT
BEGIN:STANDARD
TZOFFSETFROM:-0400
TZOFFSETTO:-0500
TZNAME:EST
DTSTART:20271107T060000
END:STANDARD
END:VTIMEZONE
BEGIN:VEVENT
DTSTART;TZID=America/New_York:20260407T203000
DTEND;TZID=America/New_York:20260407T213000
DTSTAMP:20260419T145851
CREATED:20260121T022730Z
LAST-MODIFIED:20260407T155323Z
UID:10000190-1775593800-1775597400@outdoordiscovery.org
SUMMARY:Woodcock Walk (at ODC)
DESCRIPTION:Explore the nature preserve with a naturalist in search of two bird species most people don’t get the chance to see: American Woodcock and Wilson’s Snipe. Dress in dark clothing and be prepared to be outside the entire time. Flashlights are welcome. Meet at the Visitors Center for a brief introduction before going outside. \nFor ages 6 and up.  \nGuardians stay with the class. \nRegistration required. \nFee: $6 per participant\, 20% discount for members \nProgram Location: Outdoor Discovery Center\, 4214 56th St\, Holland\, MI 49423
URL:https://outdoordiscovery.org/events/woodcock-walk-at-odc/
LOCATION:Outdoor Discovery Center\, 4214 56th St\, Holland\, MI\, United States
CATEGORIES:Birding Programs
GEO:42.726249;-86.095673
X-APPLE-STRUCTURED-LOCATION;VALUE=URI;X-ADDRESS=Outdoor Discovery Center 4214 56th St Holland MI United States;X-APPLE-RADIUS=500;X-TITLE=4214 56th St:geo:-86.095673,42.726249
END:VEVENT
END:VCALENDAR