BEGIN:VCALENDAR
VERSION:2.0
PRODID:-//ODC Network - ECPv6.15.17//NONSGML v1.0//EN
CALSCALE:GREGORIAN
METHOD:PUBLISH
X-WR-CALNAME:ODC Network
X-ORIGINAL-URL:https://outdoordiscovery.org
X-WR-CALDESC:Events for ODC Network
REFRESH-INTERVAL;VALUE=DURATION:PT1H
X-Robots-Tag:noindex
X-PUBLISHED-TTL:PT1H
BEGIN:VTIMEZONE
TZID:America/New_York
BEGIN:DAYLIGHT
TZOFFSETFROM:-0500
TZOFFSETTO:-0400
TZNAME:EDT
DTSTART:20250309T070000
END:DAYLIGHT
BEGIN:STANDARD
TZOFFSETFROM:-0400
TZOFFSETTO:-0500
TZNAME:EST
DTSTART:20251102T060000
END:STANDARD
BEGIN:DAYLIGHT
TZOFFSETFROM:-0500
TZOFFSETTO:-0400
TZNAME:EDT
DTSTART:20260308T070000
END:DAYLIGHT
BEGIN:STANDARD
TZOFFSETFROM:-0400
TZOFFSETTO:-0500
TZNAME:EST
DTSTART:20261101T060000
END:STANDARD
BEGIN:DAYLIGHT
TZOFFSETFROM:-0500
TZOFFSETTO:-0400
TZNAME:EDT
DTSTART:20270314T070000
END:DAYLIGHT
BEGIN:STANDARD
TZOFFSETFROM:-0400
TZOFFSETTO:-0500
TZNAME:EST
DTSTART:20271107T060000
END:STANDARD
END:VTIMEZONE
BEGIN:VEVENT
DTSTART;TZID=America/New_York:20260425T080000
DTEND;TZID=America/New_York:20260425T100000
DTSTAMP:20260419T145608
CREATED:20260126T023330Z
LAST-MODIFIED:20260419T165327Z
UID:10000209-1777104000-1777111200@outdoordiscovery.org
SUMMARY:Mist-netting for Birds (at Silver Creek)
DESCRIPTION:Learn all about the world of birds during a morning of mist-netting and bird banding. Stay for a few minutes or a few hours. No prior knowledge is necessary and all ages are welcome. Depending on their abilities\, participants may be able to help retrieve birds from nets\, band birds\, record vital information about birds captured and release birds back to the wild. \nMist netting is heavily weather dependent. If the weather does not cooperate for mist netting we will have a naturalist lead a morning birding hike.  \nFor all ages. \nGuardians stay with the group. \nRegistration is not required\, but appreciated.  \nFee: FREE – program sponsored by Allegan County Parks and Recreation \nProgram Location: Silver Creek\, 3900 134th Avenue\, Hamilton\, MI 49419
URL:https://outdoordiscovery.org/events/mist-netting-at-silver-creek/
LOCATION:Silver Creek\, 3900 134th Ave\, Hamilton\, MI\, United States
CATEGORIES:Birding Programs
GEO:42.666205;-85.925808
X-APPLE-STRUCTURED-LOCATION;VALUE=URI;X-ADDRESS=Silver Creek 3900 134th Ave Hamilton MI United States;X-APPLE-RADIUS=500;X-TITLE=3900 134th Ave:geo:-85.925808,42.666205
END:VEVENT
END:VCALENDAR