BEGIN:VCALENDAR
VERSION:2.0
PRODID:-//ODC Network - ECPv6.15.17//NONSGML v1.0//EN
CALSCALE:GREGORIAN
METHOD:PUBLISH
X-WR-CALNAME:ODC Network
X-ORIGINAL-URL:https://outdoordiscovery.org
X-WR-CALDESC:Events for ODC Network
REFRESH-INTERVAL;VALUE=DURATION:PT1H
X-Robots-Tag:noindex
X-PUBLISHED-TTL:PT1H
BEGIN:VTIMEZONE
TZID:America/New_York
BEGIN:DAYLIGHT
TZOFFSETFROM:-0500
TZOFFSETTO:-0400
TZNAME:EDT
DTSTART:20250309T070000
END:DAYLIGHT
BEGIN:STANDARD
TZOFFSETFROM:-0400
TZOFFSETTO:-0500
TZNAME:EST
DTSTART:20251102T060000
END:STANDARD
BEGIN:DAYLIGHT
TZOFFSETFROM:-0500
TZOFFSETTO:-0400
TZNAME:EDT
DTSTART:20260308T070000
END:DAYLIGHT
BEGIN:STANDARD
TZOFFSETFROM:-0400
TZOFFSETTO:-0500
TZNAME:EST
DTSTART:20261101T060000
END:STANDARD
BEGIN:DAYLIGHT
TZOFFSETFROM:-0500
TZOFFSETTO:-0400
TZNAME:EDT
DTSTART:20270314T070000
END:DAYLIGHT
BEGIN:STANDARD
TZOFFSETFROM:-0400
TZOFFSETTO:-0500
TZNAME:EST
DTSTART:20271107T060000
END:STANDARD
END:VTIMEZONE
BEGIN:VEVENT
DTSTART;TZID=America/New_York:20260522T080000
DTEND;TZID=America/New_York:20260524T200000
DTSTAMP:20260419T164125
CREATED:20260221T223411Z
LAST-MODIFIED:20260419T165328Z
UID:10000242-1779436800-1779652800@outdoordiscovery.org
SUMMARY:Shores of Lake Erie Spring Birding Trip
DESCRIPTION:Join us on a three-day\, two-night camping trip focused on birding! Whether you’re a seasoned birdwatcher or just starting out\, this event is perfect for all skill levels. We will be traveling to the southern shores of Lake Erie\, which is known as one of the top birdwatching locations in the country\, and receives more than 300 species of birds preparing to migrate across the Great Lakes. Each day\, we will visit multiple hotspots with a variety of habitats to maximize our experience! \nFor more information\, please reference our flier. \nBinoculars are available for use during the event. We will also have spotting scopes available for group use. \nFee: $405 with a 4% credit card processing fee \nRegister Here!
URL:https://outdoordiscovery.org/events/shores-of-lake-erie-spring-birding-trip/
CATEGORIES:Birding Programs
END:VEVENT
END:VCALENDAR