BEGIN:VCALENDAR
VERSION:2.0
PRODID:-//ODC Network - ECPv6.15.17//NONSGML v1.0//EN
CALSCALE:GREGORIAN
METHOD:PUBLISH
X-ORIGINAL-URL:https://outdoordiscovery.org
X-WR-CALDESC:Events for ODC Network
REFRESH-INTERVAL;VALUE=DURATION:PT1H
X-Robots-Tag:noindex
X-PUBLISHED-TTL:PT1H
BEGIN:VTIMEZONE
TZID:America/New_York
BEGIN:DAYLIGHT
TZOFFSETFROM:-0500
TZOFFSETTO:-0400
TZNAME:EDT
DTSTART:20250309T070000
END:DAYLIGHT
BEGIN:STANDARD
TZOFFSETFROM:-0400
TZOFFSETTO:-0500
TZNAME:EST
DTSTART:20251102T060000
END:STANDARD
BEGIN:DAYLIGHT
TZOFFSETFROM:-0500
TZOFFSETTO:-0400
TZNAME:EDT
DTSTART:20260308T070000
END:DAYLIGHT
BEGIN:STANDARD
TZOFFSETFROM:-0400
TZOFFSETTO:-0500
TZNAME:EST
DTSTART:20261101T060000
END:STANDARD
BEGIN:DAYLIGHT
TZOFFSETFROM:-0500
TZOFFSETTO:-0400
TZNAME:EDT
DTSTART:20270314T070000
END:DAYLIGHT
BEGIN:STANDARD
TZOFFSETFROM:-0400
TZOFFSETTO:-0500
TZNAME:EST
DTSTART:20271107T060000
END:STANDARD
END:VTIMEZONE
BEGIN:VEVENT
DTSTART;TZID=America/New_York:20260306T100000
DTEND;TZID=America/New_York:20260306T113000
DTSTAMP:20260423T163931
CREATED:20260121T022729Z
LAST-MODIFIED:20260312T021031Z
UID:10000173-1772791200-1772796600@outdoordiscovery.org
SUMMARY:Knee-high Naturalists (at Van Raalte Farm Park)
DESCRIPTION:Knee-high Naturalists introduces the wonders of the natural world to young children. Crafts\, activities\, books\, snacks\, live animals\, and outside exploration will be incorporated into their nature-based learning experience.  \nParents can drop off their 4-6 year old or stay with the class. Parents or guardians are asked to attend with their 3 year old to help with bathroom use and transitioning into a group learning environment.  \nFor ages 3 to 6. \nGuardians drop children off or stay with the class. \nRegistration is required.  \nRegister and pay for attending children only (except infants). \nFee: $10 per child\, 20% discount for members \nProgram Location: Van Raalte Farm Park 1076 E 16th St\, Holland\, MI 49423\, USA
URL:https://outdoordiscovery.org/events/knee-high-naturalists-at-odc-4/
LOCATION:Van Raalte Farm Park\, 1076 E 16th St\, Holland\, MI\, United States
CATEGORIES:Drop-off Programs,Hands-on Workshops and Craft Programs
GEO:42.783274;-86.06119
X-APPLE-STRUCTURED-LOCATION;VALUE=URI;X-ADDRESS=Van Raalte Farm Park 1076 E 16th St Holland MI United States;X-APPLE-RADIUS=500;X-TITLE=1076 E 16th St:geo:-86.06119,42.783274
END:VEVENT
BEGIN:VEVENT
DTSTART;TZID=America/New_York:20260311T100000
DTEND;TZID=America/New_York:20260311T110000
DTSTAMP:20260423T163931
CREATED:20260121T022729Z
LAST-MODIFIED:20260319T171710Z
UID:10000175-1773223200-1773226800@outdoordiscovery.org
SUMMARY:Nature for Tykes - Habitats (at ODC)
DESCRIPTION:Bring your little tykes out to discover the wonders of nature! Each program is a hands-on experience that will spark curiosity and create unforgettable memories for both you and your child! This spring we will be learning about habitats\, animal babies\, and how we can use our senses to explore nature.  \nFor ages 7 and under.  \nGuardians stay with the class.  \nRegistration is required. Register and pay for attending children only (except infants).  \nFee: $6 per child\, 20% discount for members  \nProgram Location: Outdoor Discovery Center – 4214 56th Street\, Holland\, MI \n\n\n\n\n\n\n\n\n\n\n\nRegister
URL:https://outdoordiscovery.org/events/nature-for-tykes-habitats-at-odc/
LOCATION:Outdoor Discovery Center\, 4214 56th St\, Holland\, MI\, United States
CATEGORIES:Hands-on Workshops and Craft Programs
GEO:42.726249;-86.095673
X-APPLE-STRUCTURED-LOCATION;VALUE=URI;X-ADDRESS=Outdoor Discovery Center 4214 56th St Holland MI United States;X-APPLE-RADIUS=500;X-TITLE=4214 56th St:geo:-86.095673,42.726249
END:VEVENT
BEGIN:VEVENT
DTSTART;TZID=America/New_York:20260313T100000
DTEND;TZID=America/New_York:20260313T113000
DTSTAMP:20260423T163931
CREATED:20260121T022729Z
LAST-MODIFIED:20260312T224815Z
UID:10000176-1773396000-1773401400@outdoordiscovery.org
SUMMARY:Knee-high Naturalists (at Dragonflies)
DESCRIPTION:Knee-high Naturalists introduces the wonders of the natural world to young children. Crafts\, activities\, books\, snacks\, live animals\, and outside exploration will be incorporated into their nature-based learning experience. \nParents can drop off their 4-6 year old or stay with the class. Parents or guardians are asked to attend with their 3 year old to help with bathroom use and transitioning into a group learning environment.  \nFor ages 3 to 6. \nGuardians drop children off or stay with the class. \nRegistration is required.  \nRegister and pay for attending children only (except infants). \nFee: $10 per child\, 20% discount for members \nProgram Location: Dragonflies Discovery Preschool\, 30 152nd Ave\, Holland\, MI
URL:https://outdoordiscovery.org/events/knee-high-naturalists-at-dragonflies-4/
LOCATION:Dragonflies Discovery Preschool\, 30 152nd Ave\, Holland\, MI\, United States
CATEGORIES:Drop-off Programs,Hands-on Workshops and Craft Programs
GEO:42.795259;-86.157244
X-APPLE-STRUCTURED-LOCATION;VALUE=URI;X-ADDRESS=Dragonflies Discovery Preschool 30 152nd Ave Holland MI United States;X-APPLE-RADIUS=500;X-TITLE=30 152nd Ave:geo:-86.157244,42.795259
END:VEVENT
BEGIN:VEVENT
DTSTART;TZID=America/New_York:20260317T100000
DTEND;TZID=America/New_York:20260317T110000
DTSTAMP:20260423T163931
CREATED:20260121T022730Z
LAST-MODIFIED:20260316T230320Z
UID:10000178-1773741600-1773745200@outdoordiscovery.org
SUMMARY:Explore a Story (at ODC)
DESCRIPTION:
URL:https://outdoordiscovery.org/events/explore-a-story-at-odc-2/
LOCATION:Outdoor Discovery Center\, 4214 56th St\, Holland\, MI\, United States
CATEGORIES:Guided Walks and Hikes,Hands-on Workshops and Craft Programs
GEO:42.726249;-86.095673
X-APPLE-STRUCTURED-LOCATION;VALUE=URI;X-ADDRESS=Outdoor Discovery Center 4214 56th St Holland MI United States;X-APPLE-RADIUS=500;X-TITLE=4214 56th St:geo:-86.095673,42.726249
END:VEVENT
BEGIN:VEVENT
DTSTART;TZID=America/New_York:20260319T173000
DTEND;TZID=America/New_York:20260319T190000
DTSTAMP:20260423T163931
CREATED:20260121T022730Z
LAST-MODIFIED:20260318T230314Z
UID:10000180-1773941400-1773946800@outdoordiscovery.org
SUMMARY:Cultural History Center Open Hours (at Cultural History Center)
DESCRIPTION:Stop by during our monthly Open Hours at the Cultural History Center to check out exhibits\, ask questions\, play games\, and chat with staff and fellow community members. A large portion of the center is dedicated to the Anishinaabe people – their history\, culture\, and the important role they continue to play throughout Michigan. Whether it’s your first visit or you’ve been here before\, you’re always welcome to come in\, look around\, and connect with the stories that shape our community. \nTheme of this months open house: Story Time \nAll ages welcome. \nGuardians stay with the group. \nNo registration is needed – this is a drop-in event.  \nFee: FREE \nLocation: Cultural History Center\, 5675 142nd Ave\, Holland\, MI 49423
URL:https://outdoordiscovery.org/events/cultural-history-center-open-hours-at-cultural-history-center-3/
LOCATION:ODC’s Cultural History Center\, 5675 142nd Ave\, Holland\, Michigan\, 49423\, United States
CATEGORIES:Hands-on Workshops and Craft Programs
END:VEVENT
BEGIN:VEVENT
DTSTART;TZID=America/New_York:20260320T100000
DTEND;TZID=America/New_York:20260320T113000
DTSTAMP:20260423T163931
CREATED:20260121T022730Z
LAST-MODIFIED:20260319T231827Z
UID:10000181-1774000800-1774006200@outdoordiscovery.org
SUMMARY:Knee-high Naturalists (at ODC)
DESCRIPTION:Knee-high Naturalists introduces the wonders of the natural world to young children. Crafts\, activities\, books\, snacks\, live animals\, and outside exploration will be incorporated into their nature-based learning experience.  \nParents can drop off their 4-6 year old or stay with the class. Parents or guardians are asked to attend with their 3 year old to help with bathroom use and transitioning into a group learning environment.  \nFor ages 3 to 6. \nGuardians drop children off or stay with the class. \nRegistration is required.  \nRegister and pay for attending children only (except infants). \nFee: $10 per child\, 20% discount for members \nProgram Location: Outdoor Discovery Center – 4214 56th Street Holland\, MI
URL:https://outdoordiscovery.org/events/knee-high-naturalists-at-odc-5/
LOCATION:Outdoor Discovery Center\, 4214 56th St\, Holland\, MI\, United States
CATEGORIES:Drop-off Programs,Hands-on Workshops and Craft Programs
GEO:42.726249;-86.095673
X-APPLE-STRUCTURED-LOCATION;VALUE=URI;X-ADDRESS=Outdoor Discovery Center 4214 56th St Holland MI United States;X-APPLE-RADIUS=500;X-TITLE=4214 56th St:geo:-86.095673,42.726249
END:VEVENT
BEGIN:VEVENT
DTSTART;TZID=America/New_York:20260327T100000
DTEND;TZID=America/New_York:20260327T113000
DTSTAMP:20260423T163931
CREATED:20260121T022730Z
LAST-MODIFIED:20260326T151829Z
UID:10000184-1774605600-1774611000@outdoordiscovery.org
SUMMARY:Knee-high Naturalists (at Dragonflies)
DESCRIPTION:Knee-high Naturalists introduces the wonders of the natural world to young children. Crafts\, activities\, books\, snacks\, live animals\, and outside exploration will be incorporated into their nature-based learning experience. \nParents can drop off their 4-6 year old or stay with the class. Parents or guardians are asked to attend with their 3 year old to help with bathroom use and transitioning into a group learning environment.  \nFor ages 3 to 6. \nGuardians drop children off or stay with the class. \nRegistration is required.  \nRegister and pay for attending children only (except infants). \nFee: $10 per child\, 20% discount for members \nProgram Location: Dragonflies Discovery Preschool\, 30 152nd Ave\, Holland\, MI
URL:https://outdoordiscovery.org/events/knee-high-naturalists-at-dragonflies-5/
LOCATION:Dragonflies Discovery Preschool\, 30 152nd Ave\, Holland\, MI\, United States
CATEGORIES:Drop-off Programs,Hands-on Workshops and Craft Programs
GEO:42.795259;-86.157244
X-APPLE-STRUCTURED-LOCATION;VALUE=URI;X-ADDRESS=Dragonflies Discovery Preschool 30 152nd Ave Holland MI United States;X-APPLE-RADIUS=500;X-TITLE=30 152nd Ave:geo:-86.157244,42.795259
END:VEVENT
END:VCALENDAR