BEGIN:VCALENDAR
VERSION:2.0
PRODID:-//ODC Network - ECPv6.15.17//NONSGML v1.0//EN
CALSCALE:GREGORIAN
METHOD:PUBLISH
X-ORIGINAL-URL:https://outdoordiscovery.org
X-WR-CALDESC:Events for ODC Network
REFRESH-INTERVAL;VALUE=DURATION:PT1H
X-Robots-Tag:noindex
X-PUBLISHED-TTL:PT1H
BEGIN:VTIMEZONE
TZID:America/New_York
BEGIN:DAYLIGHT
TZOFFSETFROM:-0500
TZOFFSETTO:-0400
TZNAME:EDT
DTSTART:20250309T070000
END:DAYLIGHT
BEGIN:STANDARD
TZOFFSETFROM:-0400
TZOFFSETTO:-0500
TZNAME:EST
DTSTART:20251102T060000
END:STANDARD
BEGIN:DAYLIGHT
TZOFFSETFROM:-0500
TZOFFSETTO:-0400
TZNAME:EDT
DTSTART:20260308T070000
END:DAYLIGHT
BEGIN:STANDARD
TZOFFSETFROM:-0400
TZOFFSETTO:-0500
TZNAME:EST
DTSTART:20261101T060000
END:STANDARD
BEGIN:DAYLIGHT
TZOFFSETFROM:-0500
TZOFFSETTO:-0400
TZNAME:EDT
DTSTART:20270314T070000
END:DAYLIGHT
BEGIN:STANDARD
TZOFFSETFROM:-0400
TZOFFSETTO:-0500
TZNAME:EST
DTSTART:20271107T060000
END:STANDARD
BEGIN:DAYLIGHT
TZOFFSETFROM:-0500
TZOFFSETTO:-0400
TZNAME:EDT
DTSTART:20280312T070000
END:DAYLIGHT
BEGIN:STANDARD
TZOFFSETFROM:-0400
TZOFFSETTO:-0500
TZNAME:EST
DTSTART:20281105T060000
END:STANDARD
BEGIN:DAYLIGHT
TZOFFSETFROM:-0500
TZOFFSETTO:-0400
TZNAME:EDT
DTSTART:20290311T070000
END:DAYLIGHT
BEGIN:STANDARD
TZOFFSETFROM:-0400
TZOFFSETTO:-0500
TZNAME:EST
DTSTART:20291104T060000
END:STANDARD
END:VTIMEZONE
BEGIN:VEVENT
DTSTART;TZID=America/New_York:20261010T083000
DTEND;TZID=America/New_York:20261010T100000
DTSTAMP:20260419T102505
CREATED:20260302T224913Z
LAST-MODIFIED:20260418T163826Z
UID:10000364-1791621000-1791626400@outdoordiscovery.org
SUMMARY:Birding Walk - October Big Day (at Bysterveld)
DESCRIPTION:Join us in birding on October Big Day! October Big Day is a great way to join birders around the world in our love of birds! All experience levels are welcome\, and we have binoculars to borrow. It is suggested to download Merlin Bird ID and eBird\, but not required. \nFor ages 12 and up. \nGuardians stay with the class. \nRegistration is not required\, but appreciated. \nFee: FREE – sponsored by Allegan County Parks & Recreation \nProgram Location: Bysterveld Park 4171 14th Street\, Wayland\, MI 49348 
URL:https://outdoordiscovery.org/events/birding-walk-october-big-day-at-bysterveld/
LOCATION:Bysterveld Park 4171 14th Street\, Wayland\, MI\, United States
GEO:42.685065;-85.642406
END:VEVENT
BEGIN:VEVENT
DTSTART;TZID=America/New_York:20261012T100000
DTEND;TZID=America/New_York:20261012T120000
DTSTAMP:20260419T102505
CREATED:20260302T224913Z
LAST-MODIFIED:20260418T163826Z
UID:10000365-1791799200-1791806400@outdoordiscovery.org
SUMMARY:Homeschool program - Migration (at ODC)
DESCRIPTION:Join us as we explore the exciting world of bird migration in Michigan! Participants will learn about the amazing journeys many birds make in order to find more resources throughout the year. They’ll discover why birds migrate\, how they find their way\, and what challenges they face along the way. \nThis drop-off program is geared for home schoolers ages 6 – 12. Please bring a water bottle and a snack. \nFor ages 6 to 12.Registration is required. Register and pay for attending children only (except infants).   \nGuardians do not need to stay with the class.Fee: $10 per student\, 20% discount for members. \nProgram Location: Outdoor Discovery Center\, 4214 56th St\, Holland\, MI 49423\, USA
URL:https://outdoordiscovery.org/events/homeschool-program-migration-at-odc/
LOCATION:Outdoor Discovery Center\, 4214 56th St\, Holland\, MI\, United States
GEO:42.726249;-86.095673
X-APPLE-STRUCTURED-LOCATION;VALUE=URI;X-ADDRESS=Outdoor Discovery Center 4214 56th St Holland MI United States;X-APPLE-RADIUS=500;X-TITLE=4214 56th St:geo:-86.095673,42.726249
END:VEVENT
BEGIN:VEVENT
DTSTART;TZID=America/New_York:20261013T180000
DTEND;TZID=America/New_York:20261013T193000
DTSTAMP:20260419T102505
CREATED:20260302T224913Z
LAST-MODIFIED:20260418T163826Z
UID:10000366-1791914400-1791919800@outdoordiscovery.org
SUMMARY:Women in Nature - Archery (at ODC Archery Range)
DESCRIPTION:Women in Nature is a program series designed to motivate women to be more healthy\, active and passionate about the natural world surrounding them. \nThis archery program will include a quick lesson on how to shoot a bow and arrow\, which will be taught by one of our certified women archery instructors. Then participants will have the opportunity to practice for the rest of the evening. Fun 3D targets will be set up\, along with normal ring targets. \nFor ages 14 and up. \nGuardians stay with the class. \nRegistration required. \nFee: FREE – sponsored by Allegan County Parks & Recreation \nProgram Location: Meet at the ODC Archery Range – 5675 142nd Ave Holland\, MI
URL:https://outdoordiscovery.org/events/women-in-nature-archery-at-odc-archery-range/
LOCATION:5675 142nd Ave\, Holland\, MI\, United States
GEO:42.743806;-86.083703
END:VEVENT
BEGIN:VEVENT
DTSTART;TZID=America/New_York:20261014T100000
DTEND;TZID=America/New_York:20261014T110000
DTSTAMP:20260419T102505
CREATED:20260302T224913Z
LAST-MODIFIED:20260418T163826Z
UID:10000367-1791972000-1791975600@outdoordiscovery.org
SUMMARY:Nature for Tykes - Creeping Critters (at ODC)
DESCRIPTION:Bring your little tykes out to discover the wonders of nature! Each program is a hands-on experience that will spark curiosity and create unforgettable memories for both you and your child! This fall we will be learning about wildflowers\, creeping critters\, and animal signs.For ages 7 and under.  \nGuardians stay with the class. \nRegistration is required. Register and pay for attending children only (except infants). Click here to register. \nFee: $6 per child\, 20% discount for members \nProgram Location: Outdoor Discovery Center – 4214 56th Street Holland\, MI
URL:https://outdoordiscovery.org/events/nature-for-tykes-creeping-critters-at-odc/
LOCATION:Outdoor Discovery Center\, 4214 56th St\, Holland\, MI\, United States
GEO:42.726249;-86.095673
X-APPLE-STRUCTURED-LOCATION;VALUE=URI;X-ADDRESS=Outdoor Discovery Center 4214 56th St Holland MI United States;X-APPLE-RADIUS=500;X-TITLE=4214 56th St:geo:-86.095673,42.726249
END:VEVENT
BEGIN:VEVENT
DTSTART;TZID=America/New_York:20261015T130000
DTEND;TZID=America/New_York:20261015T140000
DTSTAMP:20260419T102505
CREATED:20260302T224913Z
LAST-MODIFIED:20260418T163826Z
UID:10000368-1792069200-1792072800@outdoordiscovery.org
SUMMARY:Michigan Mushroom Walk at Silver Creek (Seniors only)
DESCRIPTION:Join us for an hour-long guided walk as we explore the fascinating world of fungi right here in Michigan. We’ll stroll through the area looking for mushrooms and other fungi while learning what fungi are\, how they differ from plants and animals\, and the important roles they play in our ecosystems. Along the way\, we’ll practice basic observation skills and attempt to identify some of the fungi we find. Perfect for curious beginners and nature enthusiasts alike!     \nFor ages 55+. \nGuardians stay with the class.  \nRegistration is not required\, but appreciated. \nFee: FREE – sponsored by Allegan County Parks and Recreation \nProgram location: Silver Creek\, 3900 134th Avenue\, Hamilton\, MI 49419
URL:https://outdoordiscovery.org/events/michigan-mushroom-walk-at-silver-creek-seniors-only/
LOCATION:Silver Creek\, 3900 134th Ave\, Hamilton\, MI\, United States
GEO:42.666205;-85.925808
X-APPLE-STRUCTURED-LOCATION;VALUE=URI;X-ADDRESS=Silver Creek 3900 134th Ave Hamilton MI United States;X-APPLE-RADIUS=500;X-TITLE=3900 134th Ave:geo:-85.925808,42.666205
END:VEVENT
BEGIN:VEVENT
DTSTART;TZID=America/New_York:20261016T100000
DTEND;TZID=America/New_York:20261016T113000
DTSTAMP:20260419T102505
CREATED:20260302T224913Z
LAST-MODIFIED:20260418T163826Z
UID:10000369-1792144800-1792150200@outdoordiscovery.org
SUMMARY:Knee-high Naturalists (at ODC)
DESCRIPTION:Knee-high Naturalists introduces the wonders of the natural world to young children. Crafts\, activities\, books\, snacks\, live animals\, and outside exploration will be incorporated into their nature-based learning experience.  \nParents can drop off their 4-6 year old or stay with the class. Parents or guardians are asked to attend with their 3 year old to help with bathroom use and transitioning into a group learning environment.  \nFor ages 3 to 6. \nGuardians drop children off or stay with the class. \nRegistration is required. Click here to register. \nRegister and pay for attending children only (except infants). \nFee: $10 per child\, 20% discount for members \nProgram Location: Outdoor Discovery Center – 4214 56th Street Holland\, MI
URL:https://outdoordiscovery.org/events/knee-high-naturalists-at-odc-22/
LOCATION:Outdoor Discovery Center\, 4214 56th St\, Holland\, MI\, United States
GEO:42.726249;-86.095673
X-APPLE-STRUCTURED-LOCATION;VALUE=URI;X-ADDRESS=Outdoor Discovery Center 4214 56th St Holland MI United States;X-APPLE-RADIUS=500;X-TITLE=4214 56th St:geo:-86.095673,42.726249
END:VEVENT
BEGIN:VEVENT
DTSTART;TZID=America/New_York:20261017T140000
DTEND;TZID=America/New_York:20261017T190000
DTSTAMP:20260419T102505
CREATED:20260302T224913Z
LAST-MODIFIED:20260418T163826Z
UID:10000370-1792245600-1792263600@outdoordiscovery.org
SUMMARY:Treats and Trails (at ODC)
DESCRIPTION:Bring your entire family out for a safe and fun walk along the trails of the Outdoor Discovery Center. There will be wildlife encounters\, games and candy. Don’t miss seeing the live birds of prey or making s’mores. The North American Wildlife Exhibit in the visitors center will be open for exploration throughout the event.\nChildren are encouraged to wear their costumes. All the nature trails are wheelchair\, stroller and wagon-friendly. You must walk a total of 1.2 miles to see the entire event.\nNo pets at this event please\nFee: $20 per family – no new admission after 6pm
URL:https://outdoordiscovery.org/events/treats-and-trails-at-odc/
LOCATION:Outdoor Discovery Center\, 4214 56th St\, Holland\, MI\, United States
GEO:42.726249;-86.095673
X-APPLE-STRUCTURED-LOCATION;VALUE=URI;X-ADDRESS=Outdoor Discovery Center 4214 56th St Holland MI United States;X-APPLE-RADIUS=500;X-TITLE=4214 56th St:geo:-86.095673,42.726249
END:VEVENT
BEGIN:VEVENT
DTSTART;TZID=America/New_York:20261020T100000
DTEND;TZID=America/New_York:20261020T110000
DTSTAMP:20260419T102505
CREATED:20260302T224913Z
LAST-MODIFIED:20260418T163826Z
UID:10000371-1792490400-1792494000@outdoordiscovery.org
SUMMARY:Explore a Story (at ODC)
DESCRIPTION:It’s time to round up the little ones and come out to the Outdoor Discovery Center for Explore a Story! \nWe’ll be introducing kids to the outdoors through books and outdoor adventures. We’ll read stories\, take hikes\, meet animals\, and have lots of fun. Dress for the weather\, this program is outdoors. \nFor ages 1-7. \nGuardians stay with the class \nRegistration is not required\, but appreciated. Click here to register. \nFee: $6 per child\, 20% discount for members – pay for attending children only (except infants)
URL:https://outdoordiscovery.org/events/explore-a-story-at-odc-9/
LOCATION:Outdoor Discovery Center\, 4214 56th St\, Holland\, MI\, United States
GEO:42.726249;-86.095673
X-APPLE-STRUCTURED-LOCATION;VALUE=URI;X-ADDRESS=Outdoor Discovery Center 4214 56th St Holland MI United States;X-APPLE-RADIUS=500;X-TITLE=4214 56th St:geo:-86.095673,42.726249
END:VEVENT
BEGIN:VEVENT
DTSTART;TZID=America/New_York:20261022T180000
DTEND;TZID=America/New_York:20261022T200000
DTSTAMP:20260419T102505
CREATED:20260302T224913Z
LAST-MODIFIED:20260418T163826Z
UID:10000372-1792692000-1792699200@outdoordiscovery.org
SUMMARY:Wine & Canvas - Painting With Owls (at ODC)
DESCRIPTION:Enjoy a fun and relaxing night sipping on your favorite wine and following along to a guided painting session – no experience necessary! As you create your masterpiece\, you’ll be painting an owl with a real owl present\, giving you a unique opportunity to observe it up close and learn fascinating facts about this amazing animal from an expert handler. Just bring your enthusiasm and let our talented instructors lead you step by step through the painting process. Whether you’re looking to try something new\, enjoy a night out with friends\, or simply unwind\, this one-of-a-kind wine and canvas event promises laughter\, creativity\, and an unforgettable wildlife encounter.   \nCost of wine is included in program fee.  \nFor ages 21 and up. \nRegistration required. Registration link will be added closer to the event. \nFee: $40 per participant\, 20% discount for members
URL:https://outdoordiscovery.org/events/wine-canvas-painting-with-owls-at-odc/
LOCATION:Outdoor Discovery Center\, 4214 56th St\, Holland\, MI\, United States
GEO:42.726249;-86.095673
X-APPLE-STRUCTURED-LOCATION;VALUE=URI;X-ADDRESS=Outdoor Discovery Center 4214 56th St Holland MI United States;X-APPLE-RADIUS=500;X-TITLE=4214 56th St:geo:-86.095673,42.726249
END:VEVENT
BEGIN:VEVENT
DTSTART;TZID=America/New_York:20261023T100000
DTEND;TZID=America/New_York:20261023T113000
DTSTAMP:20260419T102505
CREATED:20260302T224913Z
LAST-MODIFIED:20260418T163826Z
UID:10000373-1792749600-1792755000@outdoordiscovery.org
SUMMARY:Knee-high Naturalists (at Dragonflies)
DESCRIPTION:Knee-high Naturalists introduces the wonders of the natural world to young children. Crafts\, activities\, books\, snacks\, live animals\, and outside exploration will be incorporated into their nature-based learning experience. \nParents can drop off their 4-6 year old or stay with the class. Parents or guardians are asked to attend with their 3 year old to help with bathroom use and transitioning into a group learning environment.  \nFor ages 3 to 6. \nGuardians drop children off or stay with the class. \nRegistration is required. Click here to register. \nRegister and pay for attending children only (except infants). \nFee: $10 per child\, 20% discount for members \nProgram Location: Dragonflies Discovery Preschool\, 30 152nd Ave\, Holland\, MI
URL:https://outdoordiscovery.org/events/knee-high-naturalists-at-dragonflies-20/
LOCATION:Dragonflies Discovery Preschool\, 30 152nd Ave\, Holland\, MI\, United States
GEO:42.795259;-86.157244
X-APPLE-STRUCTURED-LOCATION;VALUE=URI;X-ADDRESS=Dragonflies Discovery Preschool 30 152nd Ave Holland MI United States;X-APPLE-RADIUS=500;X-TITLE=30 152nd Ave:geo:-86.157244,42.795259
END:VEVENT
BEGIN:VEVENT
DTSTART;TZID=America/New_York:20261024T100000
DTEND;TZID=America/New_York:20261024T110000
DTSTAMP:20260419T102505
CREATED:20260302T224914Z
LAST-MODIFIED:20260418T163826Z
UID:10000374-1792836000-1792839600@outdoordiscovery.org
SUMMARY:Fall Scavenger Hunt (at Keppel Forest)
DESCRIPTION:Get the family and explore outside with a fall scavenger hunt. Join one of our naturalists and hike the trails of Keppel Forest in search of colors\, bugs\, birds\, plants and more. You’re sure to find some fun as you search and learn about how plants and animals are getting ready for winter. All materials are provided. \nFor ages 3 and up.  \nGuardians stay with the class. \nRegistration is not required\, but appreciated. Registration link will be added closer to the event.\nFee: FREE – sponsored by Park Township \nProgram location – Albert C Keppel Forest Preserve\, 2100-2110 W Lakewood Blvd\, Holland\, MI 49424
URL:https://outdoordiscovery.org/events/fall-scavenger-hunt-at-keppel-forest/
LOCATION:Albert C Keppel Forest Preserve\, 2110 W Lakewood Blvd\, Holland\, MI\, United States
GEO:42.804401;-86.197186
X-APPLE-STRUCTURED-LOCATION;VALUE=URI;X-ADDRESS=Albert C Keppel Forest Preserve 2110 W Lakewood Blvd Holland MI United States;X-APPLE-RADIUS=500;X-TITLE=2110 W Lakewood Blvd:geo:-86.197186,42.804401
END:VEVENT
BEGIN:VEVENT
DTSTART;TZID=America/New_York:20261030T100000
DTEND;TZID=America/New_York:20261030T113000
DTSTAMP:20260419T102505
CREATED:20260302T224914Z
LAST-MODIFIED:20260418T163826Z
UID:10000375-1793354400-1793359800@outdoordiscovery.org
SUMMARY:Knee-high Naturalists (at ODC)
DESCRIPTION:Knee-high Naturalists introduces the wonders of the natural world to young children. Crafts\, activities\, books\, snacks\, live animals\, and outside exploration will be incorporated into their nature-based learning experience.  \nParents can drop off their 4-6 year old or stay with the class. Parents or guardians are asked to attend with their 3 year old to help with bathroom use and transitioning into a group learning environment.  \nFor ages 3 to 6. \nGuardians drop children off or stay with the class. \nRegistration is required. Click here to register. \nRegister and pay for attending children only (except infants). \nFee: $10 per child\, 20% discount for members \nProgram Location: Outdoor Discovery Center – 4214 56th Street Holland\, MI
URL:https://outdoordiscovery.org/events/knee-high-naturalists-at-odc-23/
LOCATION:Outdoor Discovery Center\, 4214 56th St\, Holland\, MI\, United States
GEO:42.726249;-86.095673
X-APPLE-STRUCTURED-LOCATION;VALUE=URI;X-ADDRESS=Outdoor Discovery Center 4214 56th St Holland MI United States;X-APPLE-RADIUS=500;X-TITLE=4214 56th St:geo:-86.095673,42.726249
END:VEVENT
BEGIN:VEVENT
DTSTART;TZID=America/New_York:20261109T100000
DTEND;TZID=America/New_York:20261109T120000
DTSTAMP:20260419T102505
CREATED:20260404T154819Z
LAST-MODIFIED:20260418T163826Z
UID:10000474-1794218400-1794225600@outdoordiscovery.org
SUMMARY:Homeschool program - Signs of the Season (at ODC)
DESCRIPTION:Join us as we explore the fascinating signs of fall as it transitions into winter in Michigan! Participants will discover how nature prepares for the colder months by observing changing leaves\, cooler temperatures\, and shifts in animal behavior. They’ll learn how plants and animals adapt to shorter days\, where wildlife goes as winter approaches\, and what clues tell us the seasons are changing. \nThis drop-off program is geared for homeschoolers ages 6–12. Please bring a water bottle and a snack. \nFor ages 6 to 12. \nRegistration is required. Register and pay for attending children only (except infants).  \nGuardians do not need to stay with the class. \nFee: $10 per student\, 20% discount for members. \nProgram Location: Outdoor Discovery Center\, 4214 56th St\, Holland\, MI 49423\, USA
URL:https://outdoordiscovery.org/events/homeschool-program-signs-of-the-season-at-odc/
LOCATION:Outdoor Discovery Center\, 4214 56th St\, Holland\, MI\, United States
GEO:42.726249;-86.095673
X-APPLE-STRUCTURED-LOCATION;VALUE=URI;X-ADDRESS=Outdoor Discovery Center 4214 56th St Holland MI United States;X-APPLE-RADIUS=500;X-TITLE=4214 56th St:geo:-86.095673,42.726249
END:VEVENT
BEGIN:VEVENT
DTSTART;TZID=America/New_York:20261211T100000
DTEND;TZID=America/New_York:20261211T113000
DTSTAMP:20260419T102505
CREATED:20260416T163834Z
LAST-MODIFIED:20260418T163827Z
UID:10000478-1796983200-1796988600@outdoordiscovery.org
SUMMARY:Knee-high Naturalists (at ODC)
DESCRIPTION:Knee-high Naturalists introduces the wonders of the natural world to young children. Crafts\, activities\, books\, snacks\, live animals\, and outside exploration will be incorporated into their nature-based learning experience.  \nParents can drop off their 4-6 year old or stay with the class. Parents or guardians are asked to attend with their 3 year old to help with bathroom use and transitioning into a group learning environment.  \nFor ages 3 to 6. \nGuardians drop children off or stay with the class. \nRegistration is required. Click here to register. \nRegister and pay for attending children only (except infants). \nFee: $10 per child\, 20% discount for members \nProgram Location: Outdoor Discovery Center – 4214 56th Street Holland\, MI
URL:https://outdoordiscovery.org/events/knee-high-naturalists-at-odc-38/
LOCATION:Outdoor Discovery Center\, 4214 56th St\, Holland\, MI\, United States
GEO:42.726249;-86.095673
X-APPLE-STRUCTURED-LOCATION;VALUE=URI;X-ADDRESS=Outdoor Discovery Center 4214 56th St Holland MI United States;X-APPLE-RADIUS=500;X-TITLE=4214 56th St:geo:-86.095673,42.726249
END:VEVENT
BEGIN:VEVENT
DTSTART;TZID=America/New_York:20261214T100000
DTEND;TZID=America/New_York:20261214T120000
DTSTAMP:20260419T102505
CREATED:20260404T154820Z
LAST-MODIFIED:20260418T163827Z
UID:10000475-1797242400-1797249600@outdoordiscovery.org
SUMMARY:Homeschool program - Homestead Holiday (at DeGraaf Nature Center)
DESCRIPTION:Happy Holidays! Step back in time and explore how early Michigan settlers prepared for the winter season. Participants will visit a decorated log cabin and learn about traditions from the 1800s. They’ll discover the history of holiday trees in Michigan\, try hand-dipping candles\, and create a practical\, settler-inspired craft to take home.   \nThis drop-off program is geared for home schoolers ages 6 – 12. Please bring a water bottle and a snack.  \nFor ages 6 to 12.  \nRegistration is required. Register and pay for attending children only (except infants).  \nGuardians do not need to stay with the class.  \nFee: $10 per student\, 20% discount for members.  \nProgram Location: DeGraaf Nature Center\, 600 Graafschap Rd\, Holland\, MI 49423\, USA
URL:https://outdoordiscovery.org/events/homeschool-program-homestead-holiday-at-degraaf-nature-center/
LOCATION:DeGraaf Nature Center\, 600 Graafschap Rd\, Holland\, MI\, United States
GEO:42.774778;-86.137281
X-APPLE-STRUCTURED-LOCATION;VALUE=URI;X-ADDRESS=DeGraaf Nature Center 600 Graafschap Rd Holland MI United States;X-APPLE-RADIUS=500;X-TITLE=600 Graafschap Rd:geo:-86.137281,42.774778
END:VEVENT
BEGIN:VEVENT
DTSTART;TZID=America/New_York:20261215T100000
DTEND;TZID=America/New_York:20261215T110000
DTSTAMP:20260419T102505
CREATED:20260416T163834Z
LAST-MODIFIED:20260416T163834Z
UID:10000479-1797328800-1797332400@outdoordiscovery.org
SUMMARY:Explore a Story (at ODC)
DESCRIPTION:It’s time to round up the little ones and come out to the Outdoor Discovery Center for Explore a Story! \nWe’ll be introducing kids to the outdoors through books and outdoor adventures. We’ll read stories\, take hikes\, meet animals\, and have lots of fun. Dress for the weather\, this program is outdoors. \nFor ages 1-7. \nGuardians stay with the class \nRegistration is not required\, but appreciated. Click here to register. \nFee: $6 per child\, 20% discount for members – pay for attending children only (except infants)
URL:https://outdoordiscovery.org/events/explore-a-story-at-odc-27/
LOCATION:Outdoor Discovery Center\, 4214 56th St\, Holland\, MI\, United States
GEO:42.726249;-86.095673
X-APPLE-STRUCTURED-LOCATION;VALUE=URI;X-ADDRESS=Outdoor Discovery Center 4214 56th St Holland MI United States;X-APPLE-RADIUS=500;X-TITLE=4214 56th St:geo:-86.095673,42.726249
END:VEVENT
BEGIN:VEVENT
DTSTART;TZID=America/New_York:20261218T100000
DTEND;TZID=America/New_York:20261218T113000
DTSTAMP:20260419T102505
CREATED:20260414T163828Z
LAST-MODIFIED:20260418T163827Z
UID:10000477-1797588000-1797593400@outdoordiscovery.org
SUMMARY:Knee-high Naturalists (at Dragonflies)
DESCRIPTION:Knee-high Naturalists introduces the wonders of the natural world to young children. Crafts\, activities\, books\, snacks\, live animals\, and outside exploration will be incorporated into their nature-based learning experience. \nParents can drop off their 4-6 year old or stay with the class. Parents or guardians are asked to attend with their 3 year old to help with bathroom use and transitioning into a group learning environment.  \nFor ages 3 to 6. \nGuardians drop children off or stay with the class. \nRegistration is required. Click here to register. \nRegister and pay for attending children only (except infants). \nFee: $10 per child\, 20% discount for members \nProgram Location: Dragonflies Discovery Preschool\, 30 152nd Ave\, Holland\, MI
URL:https://outdoordiscovery.org/events/knee-high-naturalists-at-dragonflies-37/
LOCATION:Dragonflies Discovery Preschool\, 30 152nd Ave\, Holland\, MI\, United States
GEO:42.795259;-86.157244
X-APPLE-STRUCTURED-LOCATION;VALUE=URI;X-ADDRESS=Dragonflies Discovery Preschool 30 152nd Ave Holland MI United States;X-APPLE-RADIUS=500;X-TITLE=30 152nd Ave:geo:-86.157244,42.795259
END:VEVENT
BEGIN:VEVENT
DTSTART;TZID=America/New_York:20280412T100000
DTEND;TZID=America/New_York:20280412T110000
DTSTAMP:20260419T102505
CREATED:20260412T162330Z
LAST-MODIFIED:20260418T163829Z
UID:10000476-1839146400-1839150000@outdoordiscovery.org
SUMMARY:Nature for Tykes - (at ODC)
DESCRIPTION:Bring your little tykes out to discover the wonders of nature! In each fun-filled program\, you and your child will have the chance to explore together. This spring\, we’ll learn about trees and the animals that live in them\, and investigate frogs and the habitats they call home.Suggested age range: 3-7 yo \nGuardians stay with the class. \nRegistration is required. Register and pay for attending children only (except infants). \nFee: $6 per child\, 20% discount for members \nProgram Location: Outdoor Discovery Center – 4214 56th Street Holland\, MI
URL:https://outdoordiscovery.org/events/nature-for-tykes-at-odc-17/
LOCATION:Outdoor Discovery Center\, 4214 56th St\, Holland\, MI\, United States
GEO:42.726249;-86.095673
X-APPLE-STRUCTURED-LOCATION;VALUE=URI;X-ADDRESS=Outdoor Discovery Center 4214 56th St Holland MI United States;X-APPLE-RADIUS=500;X-TITLE=4214 56th St:geo:-86.095673,42.726249
END:VEVENT
BEGIN:VEVENT
DTSTART;TZID=America/New_York:20280418T100000
DTEND;TZID=America/New_York:20280418T110000
DTSTAMP:20260419T102505
CREATED:20260418T163829Z
LAST-MODIFIED:20260418T163829Z
UID:10000480-1839664800-1839668400@outdoordiscovery.org
SUMMARY:Explore a Story (at ODC)
DESCRIPTION:It’s time to round up the little ones and come out to the Outdoor Discovery Center for Explore a Story! \nWe’ll be introducing kids to the outdoors through books and outdoor adventures. We’ll read stories\, take hikes\, meet animals\, and have lots of fun. Dress for the weather\, this program is outdoors. \nFor ages 1-7. \nGuardians stay with the class \nRegistration is not required\, but appreciated. Registration link will be added closer to the event. \nFee: $6 per child\, 20% discount for members – pay for attending children only (except infants)
URL:https://outdoordiscovery.org/events/explore-a-story-at-odc-28/
LOCATION:Outdoor Discovery Center\, 4214 56th St\, Holland\, MI\, United States
GEO:42.726249;-86.095673
X-APPLE-STRUCTURED-LOCATION;VALUE=URI;X-ADDRESS=Outdoor Discovery Center 4214 56th St Holland MI United States;X-APPLE-RADIUS=500;X-TITLE=4214 56th St:geo:-86.095673,42.726249
END:VEVENT
END:VCALENDAR