BEGIN:VCALENDAR
VERSION:2.0
PRODID:-//ODC Network - ECPv6.15.17//NONSGML v1.0//EN
CALSCALE:GREGORIAN
METHOD:PUBLISH
X-WR-CALNAME:ODC Network
X-ORIGINAL-URL:https://outdoordiscovery.org
X-WR-CALDESC:Events for ODC Network
REFRESH-INTERVAL;VALUE=DURATION:PT1H
X-Robots-Tag:noindex
X-PUBLISHED-TTL:PT1H
BEGIN:VTIMEZONE
TZID:America/New_York
BEGIN:DAYLIGHT
TZOFFSETFROM:-0500
TZOFFSETTO:-0400
TZNAME:EDT
DTSTART:20250309T070000
END:DAYLIGHT
BEGIN:STANDARD
TZOFFSETFROM:-0400
TZOFFSETTO:-0500
TZNAME:EST
DTSTART:20251102T060000
END:STANDARD
BEGIN:DAYLIGHT
TZOFFSETFROM:-0500
TZOFFSETTO:-0400
TZNAME:EDT
DTSTART:20260308T070000
END:DAYLIGHT
BEGIN:STANDARD
TZOFFSETFROM:-0400
TZOFFSETTO:-0500
TZNAME:EST
DTSTART:20261101T060000
END:STANDARD
BEGIN:DAYLIGHT
TZOFFSETFROM:-0500
TZOFFSETTO:-0400
TZNAME:EDT
DTSTART:20270314T070000
END:DAYLIGHT
BEGIN:STANDARD
TZOFFSETFROM:-0400
TZOFFSETTO:-0500
TZNAME:EST
DTSTART:20271107T060000
END:STANDARD
END:VTIMEZONE
BEGIN:VEVENT
DTSTART;TZID=America/New_York:20260418T093000
DTEND;TZID=America/New_York:20260418T123000
DTSTAMP:20260424T210416
CREATED:20260121T022730Z
LAST-MODIFIED:20260417T163825Z
UID:10000203-1776504600-1776515400@outdoordiscovery.org
SUMMARY:Kinomage (Teacher) Training (at Cultural History Center)
DESCRIPTION:Calling all elementary teachers and homeschool educators who want to add new teaching tools regarding Michigan’s Indigenous Peoples. \nJoin Myriah Williams M.Ed.\, Potawatomi Pokagon Band Citizen\, Cultural and Environmental Educator at the Outdoor Discovery Center\, to engage in practical applications of current Michigan tribal resources and ODC teaching materials. \nThis training qualifies for 3.0 SCHECHS.   \nRegistration required (registration closes 24 hours before the start of the event) \nProgram Fee: $35  \nProgram Location: Cultural History Center\, 5675 142nd Ave\, Holland\, MI 49423\, USA
URL:https://outdoordiscovery.org/events/kinomage-teacher-training-at-cultural-history-center/
LOCATION:5675 142nd Ave\, Holland\, MI\, United States
GEO:42.743806;-86.083703
END:VEVENT
BEGIN:VEVENT
DTSTART;TZID=America/New_York:20260226T183000
DTEND;TZID=America/New_York:20260226T200000
DTSTAMP:20260424T210416
CREATED:20260121T022729Z
LAST-MODIFIED:20260226T223351Z
UID:10000169-1772130600-1772136000@outdoordiscovery.org
SUMMARY:Fur Earrings (at Cultural History Center)
DESCRIPTION:Join us for a hands-on workshop where you’ll have the chance to create beautiful fur earrings. You’ll learn how to make your own pair of earrings using real fur – both natural and dyed – drawing inspiration from traditional and modern techniques. We’ll walk you through some basic jewelry-making techniques\, so no experience is needed. All materials will be provided\, and you’ll head home with a one-of-a-kind pair you made yourself. \nFor ages 16 and up.  \nRegistration required. \nFee: $12 per participant\, 20% discount for members \nLocation: Cultural History Center\, 5675 142nd Ave\, Holland\, MI 49423
URL:https://outdoordiscovery.org/events/fur-earrings-at-cultural-history-center/
LOCATION:5675 142nd Ave\, Holland\, MI\, United States
GEO:42.743806;-86.083703
END:VEVENT
BEGIN:VEVENT
DTSTART;TZID=America/New_York:20260219T173000
DTEND;TZID=America/New_York:20260219T190000
DTSTAMP:20260424T210416
CREATED:20260121T022729Z
LAST-MODIFIED:20260219T223313Z
UID:10000164-1771522200-1771527600@outdoordiscovery.org
SUMMARY:Cultural History Center Open Hours (at Cultural History Center)
DESCRIPTION:Stop by during our monthly Open Hours at the Cultural History Center to check out exhibits\, ask questions\, play games\, and chat with staff and fellow community members. A large portion of the center is dedicated to the Anishinaabe people – their history\, culture\, and the important role they continue to play throughout Michigan. Whether it’s your first visit or you’ve been here before\, you’re always welcome to come in\, look around\, and connect with the stories that shape our community.\nAll ages welcome.\nGuardians stay with the group.\nNo registration is needed – this is a drop-in event.\nFee: FREE\nLocation: Cultural History Center\, 5675 142nd Ave\, Holland\, MI 49423
URL:https://outdoordiscovery.org/events/cultural-history-center-open-hours-at-cultural-history-center-2/
LOCATION:5675 142nd Ave\, Holland\, MI\, United States
GEO:42.743806;-86.083703
END:VEVENT
END:VCALENDAR