BEGIN:VCALENDAR
VERSION:2.0
PRODID:-//ODC Network - ECPv6.15.17//NONSGML v1.0//EN
CALSCALE:GREGORIAN
METHOD:PUBLISH
X-ORIGINAL-URL:https://outdoordiscovery.org
X-WR-CALDESC:Events for ODC Network
REFRESH-INTERVAL;VALUE=DURATION:PT1H
X-Robots-Tag:noindex
X-PUBLISHED-TTL:PT1H
BEGIN:VTIMEZONE
TZID:America/New_York
BEGIN:DAYLIGHT
TZOFFSETFROM:-0500
TZOFFSETTO:-0400
TZNAME:EDT
DTSTART:20250309T070000
END:DAYLIGHT
BEGIN:STANDARD
TZOFFSETFROM:-0400
TZOFFSETTO:-0500
TZNAME:EST
DTSTART:20251102T060000
END:STANDARD
BEGIN:DAYLIGHT
TZOFFSETFROM:-0500
TZOFFSETTO:-0400
TZNAME:EDT
DTSTART:20260308T070000
END:DAYLIGHT
BEGIN:STANDARD
TZOFFSETFROM:-0400
TZOFFSETTO:-0500
TZNAME:EST
DTSTART:20261101T060000
END:STANDARD
BEGIN:DAYLIGHT
TZOFFSETFROM:-0500
TZOFFSETTO:-0400
TZNAME:EDT
DTSTART:20270314T070000
END:DAYLIGHT
BEGIN:STANDARD
TZOFFSETFROM:-0400
TZOFFSETTO:-0500
TZNAME:EST
DTSTART:20271107T060000
END:STANDARD
END:VTIMEZONE
BEGIN:VEVENT
DTSTART;TZID=America/New_York:20260822T103000
DTEND;TZID=America/New_York:20260822T113000
DTSTAMP:20260421T070446
CREATED:20260302T224913Z
LAST-MODIFIED:20260420T170829Z
UID:10000333-1787394600-1787398200@outdoordiscovery.org
SUMMARY:Butterfly Bonanza (at Bysterveld Park)
DESCRIPTION:Explore the art and science of catching butterflies! Become amateur lepidopterists as we spend the morning in the meadow. Learn proper netting techniques\, safe and humane insect capture\, and methods for recording and studying butterfly specimens. Please wear sturdy shoes and clothes that can get dirty. \nFor ages 5 and up. \nGuardians stay with the class. \nRegistration not required\, but appreciated. \nFee: FREE – program sponsored by Allegan County Parks and Recreation \nProgram Location: Bysterveld Park 4171 14th Street\, Wayland\, MI 49348
URL:https://outdoordiscovery.org/events/butterfly-bonanza-at-bysterveld-park/
LOCATION:Bysterveld Park 4171 14th Street\, Wayland\, MI\, United States
GEO:42.685065;-85.642406
END:VEVENT
BEGIN:VEVENT
DTSTART;TZID=America/New_York:20260917T180000
DTEND;TZID=America/New_York:20260917T190000
DTSTAMP:20260421T070446
CREATED:20260302T224913Z
LAST-MODIFIED:20260420T170830Z
UID:10000350-1789668000-1789671600@outdoordiscovery.org
SUMMARY:Women in Nature - Wildflower Walk (at Bysterveld Park)
DESCRIPTION:Women in Nature is a program series designed to motivate women to be more healthy\, active and passionate about the natural world surrounding them. \nWalk the trails of Bysterveld Park with one of our naturalists. Learn about the abundant wildflowers that grow in the meadows and the large trees you can find in the forest. Wear sturdy shoes and insect repellent and dress for the weather. \nFor ages 14+. \nGuardians stay with the class. \nRegistration required. \nFee: FREE – sponsored by Allegan County Parks & Recreation \nProgram Location: Bysterveld Park 4171 14th Street\, Wayland\, MI 49348
URL:https://outdoordiscovery.org/events/women-in-nature-wildflower-walk-at-bysterveld-park/
LOCATION:Bysterveld Park 4171 14th Street\, Wayland\, MI\, United States
GEO:42.685065;-85.642406
END:VEVENT
BEGIN:VEVENT
DTSTART;TZID=America/New_York:20261010T083000
DTEND;TZID=America/New_York:20261010T100000
DTSTAMP:20260421T070446
CREATED:20260302T224913Z
LAST-MODIFIED:20260420T170830Z
UID:10000364-1791621000-1791626400@outdoordiscovery.org
SUMMARY:Birding Walk - October Big Day (at Bysterveld)
DESCRIPTION:Join us in birding on October Big Day! October Big Day is a great way to join birders around the world in our love of birds! All experience levels are welcome\, and we have binoculars to borrow. It is suggested to download Merlin Bird ID and eBird\, but not required. \nFor ages 12 and up. \nGuardians stay with the class. \nRegistration is not required\, but appreciated. \nFee: FREE – sponsored by Allegan County Parks & Recreation \nProgram Location: Bysterveld Park 4171 14th Street\, Wayland\, MI 49348 
URL:https://outdoordiscovery.org/events/birding-walk-october-big-day-at-bysterveld/
LOCATION:Bysterveld Park 4171 14th Street\, Wayland\, MI\, United States
GEO:42.685065;-85.642406
END:VEVENT
END:VCALENDAR